BEGIN:VCALENDAR
VERSION:2.0
PRODID:-//wp-events-plugin.com//7.2.3.1//EN
BEGIN:VEVENT
UID:23@abil.co.uk
DTSTART;TZID=Europe/London:20250709T133000
DTEND;TZID=Europe/London:20250709T183000
DTSTAMP:20250909T183330Z
URL:https://abil.co.uk/events/abil-agm-and-conference-from-surviving-to-th
 riving/
SUMMARY:ABIL AGM and conference – From Surviving to Thriving’
DESCRIPTION:This event has now finished and you can see a report on the con
 ference and some of the presentations HERE
LOCATION:Irwin Mitchell The Northcliffe\, 28 Tudor Street\, London\, EC4Y 0
 AY\, United Kingdom
GEO:51.513203;-0.107499
X-APPLE-STRUCTURED-LOCATION;VALUE=URI;X-ADDRESS=28 Tudor Street\, London\, 
 EC4Y 0AY\, United Kingdom;X-APPLE-RADIUS=100;X-TITLE=Irwin Mitchell The No
 rthcliffe:geo:51.513203,-0.107499
END:VEVENT
BEGIN:VTIMEZONE
TZID:Europe/London
X-LIC-LOCATION:Europe/London
BEGIN:DAYLIGHT
DTSTART:20250330T020000
TZOFFSETFROM:+0000
TZOFFSETTO:+0100
TZNAME:BST
END:DAYLIGHT
END:VTIMEZONE
END:VCALENDAR