BEGIN:VCALENDAR
VERSION:2.0
PRODID:-//wp-events-plugin.com//7.2.3.1//EN
BEGIN:VEVENT
UID:6@abil.co.uk
DTSTART;TZID=Europe/London:20230328T123000
DTEND;TZID=Europe/London:20230328T170000
DTSTAMP:20231204T120851Z
URL:https://abil.co.uk/events/conference-the-dating-game-relationships-aft
 er-brain-injury/
SUMMARY:Conference: The Dating Game – Relationships After Brain Injury
DESCRIPTION:The first ABIL face-to-face conference since March 2020 will ha
 ve four presenters\, each with very thought-provoking presentations on the
  subject of relationships after brian injury.\nThis event has now passed a
 nd you can read the full report here: Report on conference on 28 March 202
 3 - The Dating Game - Relationships after Brain Injury
LOCATION:Irwin Mitchell\, 40 Holborn Viaduct\,\, London\, EC1N 2PZ\, United
  Kingdom
GEO:51.517808;-0.106612
X-APPLE-STRUCTURED-LOCATION;VALUE=URI;X-ADDRESS=40 Holborn Viaduct\,\, Lond
 on\, EC1N 2PZ\, United Kingdom;X-APPLE-RADIUS=100;X-TITLE=Irwin Mitchell:g
 eo:51.517808,-0.106612
END:VEVENT
BEGIN:VTIMEZONE
TZID:Europe/London
X-LIC-LOCATION:Europe/London
BEGIN:DAYLIGHT
DTSTART:20230326T020000
TZOFFSETFROM:+0000
TZOFFSETTO:+0100
TZNAME:BST
END:DAYLIGHT
END:VTIMEZONE
END:VCALENDAR