BEGIN:VCALENDAR
VERSION:2.0
PRODID:-//wp-events-plugin.com//7.2.3.1//EN
BEGIN:VEVENT
UID:20@abil.co.uk
DTSTART;TZID=Europe/London:20240625T133000
DTEND;TZID=Europe/London:20240625T164500
DTSTAMP:20240712T234821Z
URL:https://abil.co.uk/events/next-abil-conference-25-june-overcoming-barr
 iers-to-support-following-brain-injury-and-agm/
SUMMARY:Conference “Overcoming Barriers to Support following Brain Injury
 ” (and AGM)
DESCRIPTION:This event has now passed and you can access the programme and 
 tthe presentations  HERE
LOCATION:Irwin Mitchell\, 40 Holborn Viaduct\,\, London\, EC1N 2PZ\, United
  Kingdom
GEO:51.517808;-0.106612
X-APPLE-STRUCTURED-LOCATION;VALUE=URI;X-ADDRESS=40 Holborn Viaduct\,\, Lond
 on\, EC1N 2PZ\, United Kingdom;X-APPLE-RADIUS=100;X-TITLE=Irwin Mitchell:g
 eo:51.517808,-0.106612
END:VEVENT
BEGIN:VTIMEZONE
TZID:Europe/London
X-LIC-LOCATION:Europe/London
BEGIN:DAYLIGHT
DTSTART:20240331T020000
TZOFFSETFROM:+0000
TZOFFSETTO:+0100
TZNAME:BST
END:DAYLIGHT
END:VTIMEZONE
END:VCALENDAR