BEGIN:VCALENDAR
VERSION:2.0
PRODID:-//wp-events-plugin.com//7.2.3.1//EN
BEGIN:VEVENT
UID:22@abil.co.uk
DTSTART;TZID=Europe/London:20241127T133000
DTEND;TZID=Europe/London:20241127T180000
DTSTAMP:20250207T150009Z
URL:https://abil.co.uk/events/next-abil-conference-thinking-outside-the-bo
 x-wellness-after-brain-injury/
SUMMARY:Conference: Thinking outside the box – Wellness after Brain Injur
 y
DESCRIPTION:This event has now passed and you can access the programme and 
 tthe presentations  HERE
LOCATION:Irwin Mitchell\, 40 Holborn Viaduct\,\, London\, EC1N 2PZ\, United
  Kingdom
GEO:51.517808;-0.106612
X-APPLE-STRUCTURED-LOCATION;VALUE=URI;X-ADDRESS=40 Holborn Viaduct\,\, Lond
 on\, EC1N 2PZ\, United Kingdom;X-APPLE-RADIUS=100;X-TITLE=Irwin Mitchell:g
 eo:51.517808,-0.106612
END:VEVENT
BEGIN:VTIMEZONE
TZID:Europe/London
X-LIC-LOCATION:Europe/London
BEGIN:STANDARD
DTSTART:20241027T010000
TZOFFSETFROM:+0100
TZOFFSETTO:+0000
TZNAME:GMT
END:STANDARD
END:VTIMEZONE
END:VCALENDAR