BEGIN:VCALENDAR
VERSION:2.0
PRODID:-//wp-events-plugin.com//7.2.3.1//EN
BEGIN:VEVENT
UID:13@abil.co.uk
DTSTART;TZID=Europe/London:20201201T140000
DTEND;TZID=Europe/London:20201201T150000
DTSTAMP:20240204T201558Z
URL:https://abil.co.uk/events/webinar-art-music-therapy-in-a-pandemic/
SUMMARY:Webinar: Art & Music Therapy in a Pandemic
DESCRIPTION:\n\n&nbsp\;\n\n&nbsp\;\nThis event has now passed and you can r
 ead the full report here:https://abil.co.uk/webinar-art-music-therapy-in-a
 -pandemic/
LOCATION:https://abil.co.uk/webinar-art-music-therapy-in-a-pandemic/
END:VEVENT
BEGIN:VTIMEZONE
TZID:Europe/London
X-LIC-LOCATION:Europe/London
BEGIN:STANDARD
DTSTART:20201025T010000
TZOFFSETFROM:+0100
TZOFFSETTO:+0000
TZNAME:GMT
END:STANDARD
END:VTIMEZONE
END:VCALENDAR