BEGIN:VCALENDAR
VERSION:2.0
PRODID:-//wp-events-plugin.com//7.2.3.1//EN
BEGIN:VEVENT
UID:12@abil.co.uk
DTSTART;TZID=Europe/London:20210426T140000
DTEND;TZID=Europe/London:20210426T150000
DTSTAMP:20240204T201455Z
URL:https://abil.co.uk/events/webinar-brain-injury-and-the-political-lands
 cape/
SUMMARY:Webinar: Brain Injury and the Political Landscape
DESCRIPTION:\n\n&nbsp\;\n\n&nbsp\;\nThis event has now passed and you can r
 ead the full report here:https://abil.co.uk/webinar-brain-injury-and-the-p
 olitical-landscape/
LOCATION:https://abil.co.uk/webinar-brain-injury-and-the-political-landscap
 e/
END:VEVENT
BEGIN:VTIMEZONE
TZID:Europe/London
X-LIC-LOCATION:Europe/London
BEGIN:DAYLIGHT
DTSTART:20210328T020000
TZOFFSETFROM:+0000
TZOFFSETTO:+0100
TZNAME:BST
END:DAYLIGHT
END:VTIMEZONE
END:VCALENDAR